BEGIN:VCALENDAR
VERSION:2.0
PRODID:-//Columbia Basin Trust - ECPv6.15.14//NONSGML v1.0//EN
CALSCALE:GREGORIAN
METHOD:PUBLISH
X-ORIGINAL-URL:https://book.ourtrust.org
X-WR-CALDESC:Events for Columbia Basin Trust
REFRESH-INTERVAL;VALUE=DURATION:PT1H
X-Robots-Tag:noindex
X-PUBLISHED-TTL:PT1H
BEGIN:VTIMEZONE
TZID:America/Toronto
BEGIN:DAYLIGHT
TZOFFSETFROM:-0500
TZOFFSETTO:-0400
TZNAME:EDT
DTSTART:20190310T070000
END:DAYLIGHT
BEGIN:STANDARD
TZOFFSETFROM:-0400
TZOFFSETTO:-0500
TZNAME:EST
DTSTART:20191103T060000
END:STANDARD
BEGIN:DAYLIGHT
TZOFFSETFROM:-0500
TZOFFSETTO:-0400
TZNAME:EDT
DTSTART:20200308T070000
END:DAYLIGHT
BEGIN:STANDARD
TZOFFSETFROM:-0400
TZOFFSETTO:-0500
TZNAME:EST
DTSTART:20201101T060000
END:STANDARD
BEGIN:DAYLIGHT
TZOFFSETFROM:-0500
TZOFFSETTO:-0400
TZNAME:EDT
DTSTART:20210314T070000
END:DAYLIGHT
BEGIN:STANDARD
TZOFFSETFROM:-0400
TZOFFSETTO:-0500
TZNAME:EST
DTSTART:20211107T060000
END:STANDARD
END:VTIMEZONE
BEGIN:VTIMEZONE
TZID:America/Vancouver
BEGIN:DAYLIGHT
TZOFFSETFROM:-0800
TZOFFSETTO:-0700
TZNAME:PDT
DTSTART:20190310T100000
END:DAYLIGHT
BEGIN:STANDARD
TZOFFSETFROM:-0700
TZOFFSETTO:-0800
TZNAME:PST
DTSTART:20191103T090000
END:STANDARD
BEGIN:DAYLIGHT
TZOFFSETFROM:-0800
TZOFFSETTO:-0700
TZNAME:PDT
DTSTART:20200308T100000
END:DAYLIGHT
BEGIN:STANDARD
TZOFFSETFROM:-0700
TZOFFSETTO:-0800
TZNAME:PST
DTSTART:20201101T090000
END:STANDARD
BEGIN:DAYLIGHT
TZOFFSETFROM:-0800
TZOFFSETTO:-0700
TZNAME:PDT
DTSTART:20210314T100000
END:DAYLIGHT
BEGIN:STANDARD
TZOFFSETFROM:-0700
TZOFFSETTO:-0800
TZNAME:PST
DTSTART:20211107T090000
END:STANDARD
END:VTIMEZONE
BEGIN:VEVENT
DTSTART;TZID=America/Toronto:20200527T140000
DTEND;TZID=America/Toronto:20200527T200000
DTSTAMP:20260419T143223
CREATED:20200221T215106Z
LAST-MODIFIED:20200221T215106Z
UID:1301-1590588000-1590609600@book.ourtrust.org
SUMMARY:Fauquier Event
DESCRIPTION:
URL:https://book.ourtrust.org/event/fauquier-event/
LOCATION:Fauquier Community Hall\, 119 Oak St\, Fauquier\, British Columbia\, Canada
END:VEVENT
BEGIN:VEVENT
DTSTART;TZID=America/Toronto:20200526T140000
DTEND;TZID=America/Toronto:20200526T200000
DTSTAMP:20260419T143223
CREATED:20200221T215010Z
LAST-MODIFIED:20200221T215010Z
UID:1298-1590501600-1590523200@book.ourtrust.org
SUMMARY:Burton Event
DESCRIPTION:
URL:https://book.ourtrust.org/event/burton-event/
LOCATION:Burton Hall\, 120 Burton Main Rd\, Burton\, British Columbia\, Canada
END:VEVENT
BEGIN:VEVENT
DTSTART;TZID=America/Toronto:20200521T140000
DTEND;TZID=America/Toronto:20200521T200000
DTSTAMP:20260419T143223
CREATED:20200221T214713Z
LAST-MODIFIED:20200221T214713Z
UID:1289-1590069600-1590091200@book.ourtrust.org
SUMMARY:Nakusp Event
DESCRIPTION:
URL:https://book.ourtrust.org/event/nakusp-event/
LOCATION:Nakusp & District Community Complex\, 200 8th Ave\, Nakusp\, British Columbia\, Canada
END:VEVENT
BEGIN:VEVENT
DTSTART;TZID=America/Toronto:20200513T140000
DTEND;TZID=America/Toronto:20200513T200000
DTSTAMP:20260419T143223
CREATED:20200221T213749Z
LAST-MODIFIED:20200221T213749Z
UID:1262-1589378400-1589400000@book.ourtrust.org
SUMMARY:Elkford Event
DESCRIPTION:
URL:https://book.ourtrust.org/event/elkford-event/
LOCATION:Elkford Tech Hall\, 750 Fording Drive\, Elkford\, British Columbia\, Canada
END:VEVENT
BEGIN:VEVENT
DTSTART;TZID=America/Toronto:20200512T140000
DTEND;TZID=America/Toronto:20200512T200000
DTSTAMP:20260419T143223
CREATED:20200221T213840Z
LAST-MODIFIED:20200221T213840Z
UID:1265-1589292000-1589313600@book.ourtrust.org
SUMMARY:Sparwood Event
DESCRIPTION:
URL:https://book.ourtrust.org/event/sparwood-event/
LOCATION:Sparwood Seniors Centre\, 101 4 Ave\, Sparwood\, British Columbia\, Canada
END:VEVENT
BEGIN:VEVENT
DTSTART;TZID=America/Toronto:20200507T140000
DTEND;TZID=America/Toronto:20200507T200000
DTSTAMP:20260419T143223
CREATED:20200221T212500Z
LAST-MODIFIED:20200221T212500Z
UID:1241-1588860000-1588881600@book.ourtrust.org
SUMMARY:Valemount Event
DESCRIPTION:
URL:https://book.ourtrust.org/event/valemount-event/
LOCATION:Valemount Community Centre\, 201 Gorse St\, Valemount\, British Columbia\, Canada
END:VEVENT
BEGIN:VEVENT
DTSTART;TZID=America/Toronto:20200505T140000
DTEND;TZID=America/Toronto:20200505T200000
DTSTAMP:20260419T143223
CREATED:20200221T212644Z
LAST-MODIFIED:20200221T212644Z
UID:1244-1588687200-1588708800@book.ourtrust.org
SUMMARY:Revelstoke Event
DESCRIPTION:
URL:https://book.ourtrust.org/event/revelstoke-event/
LOCATION:Revelstoke Community Centre\, 600 Campbell Ave\, Revelstoke\, British Columbia\, V0E 2S0\, Canada
END:VEVENT
BEGIN:VEVENT
DTSTART;TZID=America/Toronto:20200501T140000
DTEND;TZID=America/Toronto:20200501T200000
DTSTAMP:20260419T143223
CREATED:20200221T215530Z
LAST-MODIFIED:20200221T215530Z
UID:1316-1588341600-1588363200@book.ourtrust.org
SUMMARY:Riondel Event
DESCRIPTION:
URL:https://book.ourtrust.org/event/riondel-event/
LOCATION:Riondel Community Centre\, 1511 Eastman Ave\, Riondel\, British Columbia\, Canada
END:VEVENT
BEGIN:VEVENT
DTSTART;TZID=America/Toronto:20200430T140000
DTEND;TZID=America/Toronto:20200430T200000
DTSTAMP:20260419T143223
CREATED:20200221T213316Z
LAST-MODIFIED:20200221T213316Z
UID:1253-1588255200-1588276800@book.ourtrust.org
SUMMARY:Invermere Event
DESCRIPTION:
URL:https://book.ourtrust.org/event/invermere-event/
LOCATION:Columbia Valley Centre\, 646 4th Street\, Invermere\, British Columbia\, Canada
END:VEVENT
BEGIN:VEVENT
DTSTART;TZID=America/Toronto:20200429T140000
DTEND;TZID=America/Toronto:20200429T200000
DTSTAMP:20260419T143223
CREATED:20200221T213651Z
LAST-MODIFIED:20200224T191112Z
UID:1259-1588168800-1588190400@book.ourtrust.org
SUMMARY:Canal Flats
DESCRIPTION:
URL:https://book.ourtrust.org/event/canal-flats/
LOCATION:Canal Flats Civic Centre\, 8911 Dunn Street\, Canal Flats\, British Columbia\, Canada
END:VEVENT
BEGIN:VEVENT
DTSTART;TZID=America/Toronto:20200428T140000
DTEND;TZID=America/Toronto:20200428T200000
DTSTAMP:20260419T143223
CREATED:20200221T220757Z
LAST-MODIFIED:20200221T220757Z
UID:1334-1588082400-1588104000@book.ourtrust.org
SUMMARY:Fruitvale Event
DESCRIPTION:
URL:https://book.ourtrust.org/event/fruitvale-event/
LOCATION:Fruitvale Memorial Hall\, 1968 Main Street\, Fruitvale\, British Columbia\, Canada
END:VEVENT
BEGIN:VEVENT
DTSTART;TZID=America/Toronto:20200428T140000
DTEND;TZID=America/Toronto:20200428T200000
DTSTAMP:20260419T143223
CREATED:20200221T213101Z
LAST-MODIFIED:20200221T213101Z
UID:1250-1588082400-1588104000@book.ourtrust.org
SUMMARY:Radium Event
DESCRIPTION:
URL:https://book.ourtrust.org/event/radium-event/
LOCATION:Radium Community Hall\, 4863 Stanley Street\, Radium\, British Columbia\, Canada
END:VEVENT
BEGIN:VEVENT
DTSTART;TZID=America/Toronto:20200423T140000
DTEND;TZID=America/Toronto:20200423T200000
DTSTAMP:20260419T143223
CREATED:20200221T215905Z
LAST-MODIFIED:20200221T215905Z
UID:1328-1587650400-1587672000@book.ourtrust.org
SUMMARY:Castlegar Event
DESCRIPTION:
URL:https://book.ourtrust.org/event/castlegar-event/
LOCATION:Castlegar Community Complex\, 2101 6 Ave\, Castlegar\, British Columbia\, Canada
END:VEVENT
BEGIN:VEVENT
DTSTART;TZID=America/Toronto:20200421T140000
DTEND;TZID=America/Toronto:20200421T200000
DTSTAMP:20260419T143223
CREATED:20200221T214112Z
LAST-MODIFIED:20200221T214112Z
UID:1274-1587477600-1587499200@book.ourtrust.org
SUMMARY:Kimberley Event
DESCRIPTION:
URL:https://book.ourtrust.org/event/kimberley-event/
LOCATION:Elks Lodge\, 240 Howard St\, Kimberley\, British Columbia\, Canada
END:VEVENT
BEGIN:VEVENT
DTSTART;TZID=America/Toronto:20200416T140000
DTEND;TZID=America/Toronto:20200416T200000
DTSTAMP:20260419T143223
CREATED:20200221T212918Z
LAST-MODIFIED:20200221T212918Z
UID:1247-1587045600-1587067200@book.ourtrust.org
SUMMARY:Parson Event
DESCRIPTION:
URL:https://book.ourtrust.org/event/parson-event/
LOCATION:Parson Hall\, 3589 Highway 95\, Parson\, British Columbia\, Canada
END:VEVENT
BEGIN:VEVENT
DTSTART;TZID=America/Vancouver:20200415T140000
DTEND;TZID=America/Vancouver:20200415T200000
DTSTAMP:20260419T143223
CREATED:20200219T182626Z
LAST-MODIFIED:20200221T212707Z
UID:1058-1586959200-1586980800@book.ourtrust.org
SUMMARY:Golden Event
DESCRIPTION:
URL:https://book.ourtrust.org/event/golden-event/
LOCATION:Golden Civic Centre\, 806 10th Ave S\, Golden\, British Columbia\, Canada
END:VEVENT
BEGIN:VEVENT
DTSTART;TZID=America/Toronto:20200414T140000
DTEND;TZID=America/Toronto:20200414T200000
DTSTAMP:20260419T143223
CREATED:20200221T215822Z
LAST-MODIFIED:20200221T215822Z
UID:1325-1586872800-1586894400@book.ourtrust.org
SUMMARY:Nelson Event
DESCRIPTION:
URL:https://book.ourtrust.org/event/nelson-event/
LOCATION:Nelson Prestige\, 701 Lakeside Drive\, Nelson\, British Columbia\, Canada
END:VEVENT
BEGIN:VEVENT
DTSTART;TZID=America/Toronto:20200409T140000
DTEND;TZID=America/Toronto:20200409T200000
DTSTAMP:20260419T143223
CREATED:20200221T220318Z
LAST-MODIFIED:20200221T220318Z
UID:1343-1586440800-1586462400@book.ourtrust.org
SUMMARY:Rossland Event
DESCRIPTION:
URL:https://book.ourtrust.org/event/rossland-event/
LOCATION:Rossland Miner’s Hall\, 1765 Columbia Ave\, Rossland\, British Columbia\, Canada
END:VEVENT
BEGIN:VEVENT
DTSTART;TZID=America/Toronto:20200408T140000
DTEND;TZID=America/Toronto:20200408T200000
DTSTAMP:20260419T143223
CREATED:20200221T213453Z
LAST-MODIFIED:20200221T213453Z
UID:1256-1586354400-1586376000@book.ourtrust.org
SUMMARY:Fairmont Event
DESCRIPTION:
URL:https://book.ourtrust.org/event/fairmont-event/
LOCATION:Fairmont Lions Hall/Community Den\, 5003 Hot Springs Rd\, Fairmont\, British Columbia\, Canada
END:VEVENT
BEGIN:VEVENT
DTSTART;TZID=America/Toronto:20200406T140000
DTEND;TZID=America/Toronto:20200406T200000
DTSTAMP:20260419T143223
CREATED:20200221T214821Z
LAST-MODIFIED:20200221T214821Z
UID:1292-1586181600-1586203200@book.ourtrust.org
SUMMARY:Meadow Creek Event
DESCRIPTION:
URL:https://book.ourtrust.org/event/meadow-creek-event/
LOCATION:Lardeau Valley Community Hall\, 13429 HWY 31\, Meadow Creek\, British Columbia\, Canada
END:VEVENT
BEGIN:VEVENT
DTSTART;TZID=America/Toronto:20200331T140000
DTEND;TZID=America/Toronto:20200331T200000
DTSTAMP:20260419T143223
CREATED:20200221T213934Z
LAST-MODIFIED:20200221T213934Z
UID:1268-1585663200-1585684800@book.ourtrust.org
SUMMARY:Fernie Event
DESCRIPTION:Date to be confirmed.
URL:https://book.ourtrust.org/event/fernie-event/
LOCATION:Seniors Hall\, 562 3rd Ave\, Fernie\, British Columbia\, Canada
END:VEVENT
BEGIN:VEVENT
DTSTART;TZID=America/Toronto:20200330T140000
DTEND;TZID=America/Toronto:20200330T200000
DTSTAMP:20260419T143223
CREATED:20200221T214030Z
LAST-MODIFIED:20200221T214030Z
UID:1271-1585576800-1585598400@book.ourtrust.org
SUMMARY:Jaffray Event
DESCRIPTION:
URL:https://book.ourtrust.org/event/jaffray-event/
LOCATION:Jaffray Community Hall\, 7303 Jaffray Village Loop Rd\, Jaffray\, British Columbia\, Canada
END:VEVENT
BEGIN:VEVENT
DTSTART;TZID=America/Toronto:20200312T140000
DTEND;TZID=America/Toronto:20200312T200000
DTSTAMP:20260419T143223
CREATED:20200221T220141Z
LAST-MODIFIED:20200309T185928Z
UID:1337-1584021600-1584043200@book.ourtrust.org
SUMMARY:Trail Event
DESCRIPTION:Date: TBC
URL:https://book.ourtrust.org/event/trail-event/
LOCATION:Riverbell Restaurant\, 1350 Esplanade\, Trail\, British Columbia\, Canada
END:VEVENT
BEGIN:VEVENT
DTSTART;TZID=America/Toronto:20200311T140000
DTEND;TZID=America/Toronto:20200311T200000
DTSTAMP:20260419T143223
CREATED:20200221T215953Z
LAST-MODIFIED:20200309T185915Z
UID:1331-1583935200-1583956800@book.ourtrust.org
SUMMARY:Salmo Event
DESCRIPTION:Date: TBC
URL:https://book.ourtrust.org/event/salmo-event/
LOCATION:Salmo Valley Youth and Community Centre\, 206 Seventh Ave\, Salmo\, British Columbia\, Canada
END:VEVENT
END:VCALENDAR